BEGIN:VCALENDAR
VERSION:2.0
PRODID:-//eventon.com NONSGML v1.0//EN
CALSCALE:GREGORIAN
METHOD:PUBLISH
BEGIN:VEVENT
UID:69e766b178bd1
DTSTAMP:20260421T115945Z
DTSTART:20260510T153000Z
DTEND:20260510T215900Z
LOCATION:Osnabrück | Nackte Mühle Östringer Weg 18
SUMMARY:Herzfäden – Von Muttern und Töchtern
DESCRIPTION:Zum Muttertag erzählen Sabine Meyer und Sonja Fischer Märche
 n\,  in denen Mütter und Töchter einander lieben\,  prüfen\,  schützen 
 – und manchmal zutiefst verletzen. Und sie erzählen von all den feinen 
 Fäden dazwischen – sichtbar und unsichtbar – die Mütter mit ihren Tö
 chtern verbinden und Töchter mit ihren Müttern: Fäden aus Hoffnung\,  Er
 innerung\, [..]\nhttps://kukuk.de/events/herzfaeden-von-muttern-und-toechte
 rn/
URL:https://kukuk.de/events/herzfaeden-von-muttern-und-toechtern/
END:VEVENT
END:VCALENDAR