BEGIN:VCALENDAR
VERSION:2.0
PRODID:-//eventon.com NONSGML v1.0//EN
CALSCALE:GREGORIAN
METHOD:PUBLISH
BEGIN:VEVENT
UID:69e7800db345f
DTSTAMP:20260421T134757Z
DTSTART:20260503T120000Z
DTEND:20260531T150000Z
LOCATION:Bissendorf | KulturRAUM Mindener Str. 60
SUMMARY:„Traum­sequenzen“ | Vernissage
DESCRIPTION:Pia Forstner\,  Laura Grube\,  Leila Kamlage\,  Johanna Tschauk
 o und Linda Weiland – fünf junge Künstlerinnen aus Osnabrück beschäft
 igen sich über verschiedene Medien wie der Malerei\,  Bildhauerei und Druc
 ktechniken mit dem Thema „Traumsequenzen“. Sie lassen sich von Schwelle
 nmomenten\,  Unterbewusstem und Ungewöhnlichen inspirieren.\nhttps://kukuk
 .de/events/traumsequenzen-vernissage-3/
URL:https://kukuk.de/events/traumsequenzen-vernissage-3/
END:VEVENT
END:VCALENDAR