BEGIN:VCALENDAR
VERSION:2.0
PRODID:-//eventon.com NONSGML v1.0//EN
CALSCALE:GREGORIAN
METHOD:PUBLISH
BEGIN:VEVENT
UID:69e79b39b8758
DTSTAMP:20260421T154353Z
DTSTART:20260503
DTEND:20260504
LOCATION:Bissendorf | KulturRAUM Mindener Str. 60
SUMMARY:Traum­sequenzen
DESCRIPTION:Pia Forstner\,  Laura Grube\,  Leila Kamlage\,  Johanna Tschauk
 o und Linda Weiland – fünf junge Künstlerinnen aus Osnabrück beschäft
 igen sich über verschiedene Medien wie der Malerei\,  Bildhauerei und Druc
 ktechniken mit dem Thema „Traumsequenzen“. Sie lassen sich von Schwelle
 nmomenten\,  Unterbewusstem und Ungewöhnlichen inspirieren. Öffnungszeite
 n: sonntags        14-17 Uhr\nhttps://kukuk.de/events/traumsequenzen-3/
URL:https://kukuk.de/events/traumsequenzen-3/
END:VEVENT
END:VCALENDAR