BEGIN:VCALENDAR
VERSION:2.0
PRODID:-//eventon.com NONSGML v1.0//EN
CALSCALE:GREGORIAN
METHOD:PUBLISH
BEGIN:VEVENT
UID:69e79a0e7d5d8
DTSTAMP:20260421T153854Z
DTSTART:20260405
DTEND:20260406
LOCATION:Bissendorf | KulturRAUM Mindener Str. 60
SUMMARY:Ingrid Krisch-Tepper: „Malerei – Collagen – Grafik“
DESCRIPTION:„Ich wuchs mit dem Geruch von Ölfarben auf. &#8230; Früh ze
 igte sich ein Gespür für Formen\,  Farben und Proportionen. Die Malerei g
 ab mir die Möglichkeit\,  Gefühle und Wahrnehmungen auszudrücken. Alles 
 begann mit Aquarellmalerei – doch bald faszinierten mich Ölfarben. Es fo
 lgten Privatunterricht bei der niederländischen Künstlerin Minke Haverman
 n\,  die in[..]\nhttps://kukuk.de/events/traumsequenzen/
URL:https://kukuk.de/events/traumsequenzen/
END:VEVENT
END:VCALENDAR