BEGIN:VCALENDAR
VERSION:2.0
PRODID:-//eventon.com NONSGML v1.0//EN
CALSCALE:GREGORIAN
METHOD:PUBLISH
BEGIN:VEVENT
UID:69e766b377686
DTSTAMP:20260421T115947Z
DTSTART:20260507T180000Z
DTEND:20260507T215900Z
LOCATION:OsnabrÃ¼ck | Lagerhalle Rolandsmauer 26\,  49074 OsnabrÃ¼ck
SUMMARY:Poetry Slam | Der Dichter-Wettstreit
DESCRIPTION:Willkommen im Schleudergang der Literatur\,  wo Wortspektakel m
 it Performance-Ekstase zusammen treffen kann. Es wird spannend\,  lustig\, 
  emotional\,  absurd\,  wÃ¼tend\,  traurig oder anklagend. Andreas Weber ho
 lt die Performance-Literat*innen in das â€žOsnabrÃ¼cker Wohnzimmer&#8220; â
 €“ und wie immer entscheidet das Publikum. Slammaster: Andreas Weber Beats:
  DJ At aka At was here (trust in[..]\nhttps://kukuk.de/events/poetry-slam-d
 er-dichter-wettstreit-2/
URL:https://kukuk.de/events/poetry-slam-der-dichter-wettstreit-2/
END:VEVENT
END:VCALENDAR