BEGIN:VCALENDAR
VERSION:2.0
PRODID:-//eventon.com NONSGML v1.0//EN
CALSCALE:GREGORIAN
METHOD:PUBLISH
BEGIN:VEVENT
UID:69e766d3d16ba
DTSTAMP:20260421T120019Z
DTSTART:20260424T180000Z
DTEND:20260424T215900Z
LOCATION:Osnabrück | Lagerhalle Rolandsmauer 26\,  49074 Osnabrück
SUMMARY:Jever Song Night
DESCRIPTION:Mit einer Stimme\,  die als „Rauch und Samt“ beschrieben wi
 rd\,  hat die britische Singer-Songwriterin Kirsty McGee eine unverwechselb
 are musikalische Identität entwickelt\,  die sich gängigen Kategorisierun
 gen entzieht. Inspiriert von Folk\,  Jazz\,  Blues und Americana prägte Mc
 Gee den Begriff Hobopop\,  um ihren fließenden\,  genre-resistenten Stil z
 u beschreiben — Musik\,  die mehr von[..]\nhttps://kukuk.de/events/jever-
 song-night-2/
URL:https://kukuk.de/events/jever-song-night-2/
END:VEVENT
END:VCALENDAR