BEGIN:VCALENDAR
VERSION:2.0
PRODID:-//eventon.com NONSGML v1.0//EN
CALSCALE:GREGORIAN
METHOD:PUBLISH
BEGIN:VEVENT
UID:69e7670bc876d
DTSTAMP:20260421T120115Z
DTSTART:20260504T170000Z
DTEND:20260504T215900Z
LOCATION:Osnabrück | Diakonie-Wohnstift am Westerberg Bergstr. 35a-c
SUMMARY:„In Italien unterwegs mit Rainer Maria Rilke“
DESCRIPTION:Rainer Maria Rilke war nicht nur ein außergewöhnlicher Dichte
 r\,  sondern auch ein bedeutender Reisender. Als unbehauster Troubadour rei
 ste er jahrzehntelang kreuz und quer durch Europa\,  von seiner Geburtsstad
 t Prag nach Deutschland und nach Frankreich\,  vom hohen Norden sogar bis n
 ach Ägypten. Eine besonders starke Reise-Beziehung hatte er schon seit sei
 ner[..]\nhttps://kukuk.de/events/in-italien-unterwegs-mit-rainer-maria-rilk
 e/
URL:https://kukuk.de/events/in-italien-unterwegs-mit-rainer-maria-rilke/
END:VEVENT
END:VCALENDAR