BEGIN:VCALENDAR
VERSION:2.0
PRODID:-//eventon.com NONSGML v1.0//EN
CALSCALE:GREGORIAN
METHOD:PUBLISH
BEGIN:VEVENT
UID:69e766f8c63dc
DTSTAMP:20260421T120056Z
DTSTART:20260507T180000Z
DTEND:20260507T215900Z
LOCATION:Osnabrück | Botschaft Frankenstr. 21
SUMMARY:Matze Knop: „Spitzen­reiter“
DESCRIPTION:„Spitzenreiter“ – so heißt das neue Bühnenprogramm von 
 Matze Knop. Mit Humor\,  Ironie und seinem „Pferdebuddy“ reitet er durc
 h den alltäglichen Wahnsinn: von KI und Selbstbedienungskassen über SUV-F
 ahrer und Lastenrad-Dinkel-Dörte bis zu Politikern\,  die sich verheddern.
  Fußballfans erwarten pointierte Analysen von Champions League bis Kreisli
 ga\,  dazu Parodien von Kloppo\,  Jogi[..]\nhttps://kukuk.de/events/matze-k
 nop-spitzenreiter/
URL:https://kukuk.de/events/matze-knop-spitzenreiter/
END:VEVENT
END:VCALENDAR