BEGIN:VCALENDAR
VERSION:2.0
PRODID:-//eventon.com NONSGML v1.0//EN
CALSCALE:GREGORIAN
METHOD:PUBLISH
BEGIN:VEVENT
UID:69e766afd3b17
DTSTAMP:20260421T115943Z
DTSTART:20260507T180000Z
DTEND:20260507T215900Z
LOCATION:Osnabrück | Kleine Freiheit Dammstr. 2
SUMMARY:Carlo Karacho: „Live 2026“
DESCRIPTION:Carlo Karacho bewegt sich mit seiner Musik gekonnt zwischen Syn
 thpop\,  Post-Punk und der Neuen Deutschen Welle der 80er-Jahre\,  gespickt
  mit modernen Elementen der Gegenwart – facettenreich an Themen und Ansic
 hten und mit Hang zu einnehmenden\,  tanzbaren Beats. Der Produzent und Sä
 nger gewährt durch seine ausschließlich deutschen Texte einen Einblick in
 [..]\nhttps://kukuk.de/events/carlo-karacho-live-2026/
URL:https://kukuk.de/events/carlo-karacho-live-2026/
END:VEVENT
END:VCALENDAR