BEGIN:VCALENDAR
VERSION:2.0
PRODID:-//eventon.com NONSGML v1.0//EN
CALSCALE:GREGORIAN
METHOD:PUBLISH
BEGIN:VEVENT
UID:69e766c3347a1
DTSTAMP:20260421T120003Z
DTSTART:20260501T180000Z
DTEND:20260501T215900Z
LOCATION:Osnabrück | Botschaft Frankenstr. 21
SUMMARY:Großstadt­geflüster: „23 2/3 Jahre – Jubiläums­tour“
DESCRIPTION:Großstadtgeflüster bezeichnet sich mittlerweile nicht mehr al
 s Band\,  sondern als Aggregatzustand. Seit über zwei Dekaden bewegt sich 
 dieser zwischen Rummelbums-Rave und radikalem Realismus – mit Berliner Sc
 hnauze und liebevollem Blick fürs Abseitige. Nach sieben Studioalben und H
 underten Konzerten gibt es 2026 etwas zu feiern! Das Trio\,  bestehend aus 
 Jen Bender\, [..]\nhttps://kukuk.de/events/grossstadtgefluester-23-2-3-jahr
 e-jubilaeumstour/
URL:https://kukuk.de/events/grossstadtgefluester-23-2-3-jahre-jubilaeumstour/
END:VEVENT
END:VCALENDAR