BEGIN:VCALENDAR
VERSION:2.0
PRODID:-//eventon.com NONSGML v1.0//EN
CALSCALE:GREGORIAN
METHOD:PUBLISH
BEGIN:VEVENT
UID:69e766b23d7f0
DTSTAMP:20260421T115946Z
DTSTART:20260425T180000Z
DTEND:20260425T215900Z
LOCATION:Osnabrück | Lagerhalle Rolandsmauer 26\,  49074 Osnabrück
SUMMARY:Rasmus Syman: „Alles Ego“
DESCRIPTION:Seit 2019 ist Rasmus Syman fester Teil der Berliner Comedyszene
 . Der Ruhrpott-Typ erzählt auf der Bühne peinliche Jugendgeschichten\,  e
 igene Widersprüche und alles\,  was ihn nervt – persönlich\,  bissig un
 d charmant. Er tourte bereits mit Michael Mittermeier und Fabi Rommel sowie
  2024/25 mit Filiz Tasdan. Rasmus tritt regelmäßig im Quatsch Comedy[..]\
 nhttps://kukuk.de/events/rasmus-syman-alles-ego/
URL:https://kukuk.de/events/rasmus-syman-alles-ego/
END:VEVENT
END:VCALENDAR