BEGIN:VCALENDAR
VERSION:2.0
PRODID:-//eventon.com NONSGML v1.0//EN
CALSCALE:GREGORIAN
METHOD:PUBLISH
BEGIN:VEVENT
UID:69e766afbbbae
DTSTAMP:20260421T115943Z
DTSTART:20260424T180000Z
DTEND:20260424T215900Z
LOCATION:Osnabrück | Kleine Freiheit Dammstr. 2
SUMMARY:Hellsongs: „The Return of The Hellsingers“
DESCRIPTION:20 Jahre Hellsongs – kaum zu glauben! 2004 spielte Hellsongs 
 ihre erste Shows in einer Scheune bei Göteborg\,  „Dragostea din Tei“ 
 lief im Radio und die Welt schien einfacher. Nach ihrem letzten Album „Th
 ese are Evil Times“ (2013) war erst mal Pause. Jetzt sind wir zurück –
  älter\,  böser und[..]\nhttps://kukuk.de/events/hellsongs-the-return-of-
 the-hellsingers/
URL:https://kukuk.de/events/hellsongs-the-return-of-the-hellsingers/
END:VEVENT
END:VCALENDAR