BEGIN:VCALENDAR
VERSION:2.0
PRODID:-//eventon.com NONSGML v1.0//EN
CALSCALE:GREGORIAN
METHOD:PUBLISH
BEGIN:VEVENT
UID:69e766fa60a00
DTSTAMP:20260421T120058Z
DTSTART:20260503T134500Z
DTEND:20260503T215900Z
LOCATION:Osnabrück | Museum am Schölerberg (Planetarium) Klaus-Strick-Weg 12
SUMMARY:Die Olchis – Das große Weltraum­abenteuer
DESCRIPTION:In einer muffelfurzigen Rakete zu den Sternen fliegen? Wer trä
 umt nicht davon! Und so sind Olchi-Opa und die Olchi-Kinder auch gleich von
  Prof. Brauseweins ferngesteuerter Rakete begeistert. Die Olchis fliegen mi
 t ihr zum Mond und durch das Sonnensystem. Doch so gemütlich wie erwartet 
 ist die Reise nicht. Als dann auch[..]\nhttps://kukuk.de/events/die-olchis-
 das-grosse-weltraumabenteuer-4/
URL:https://kukuk.de/events/die-olchis-das-grosse-weltraumabenteuer-4/
END:VEVENT
END:VCALENDAR