BEGIN:VCALENDAR
VERSION:2.0
PRODID:-//eventon.com NONSGML v1.0//EN
CALSCALE:GREGORIAN
METHOD:PUBLISH
BEGIN:VEVENT
UID:69e766681788c
DTSTAMP:20260421T115832Z
DTSTART:20260425T123000Z
DTEND:20260425T215900Z
LOCATION:Osnabrück | Museum am Schölerberg (Planetarium) Klaus-Strick-Weg 12
SUMMARY:Die Olchis – Das große Weltraum­abenteuer
DESCRIPTION:In einer muffelfurzigen Rakete zu den Sternen fliegen? Wer trä
 umt nicht davon! Und so sind Olchi-Opa und die Olchi-Kinder auch gleich von
  Prof. Brauseweins ferngesteuerter Rakete begeistert. Die Olchis fliegen mi
 t ihr zum Mond und durch das Sonnensystem. Doch so gemütlich wie erwartet 
 ist die Reise nicht. Als dann auch[..]\nhttps://kukuk.de/events/die-olchis-
 das-grosse-weltraumabenteuer-3/
URL:https://kukuk.de/events/die-olchis-das-grosse-weltraumabenteuer-3/
END:VEVENT
END:VCALENDAR