BEGIN:VCALENDAR
VERSION:2.0
PRODID:-//eventon.com NONSGML v1.0//EN
CALSCALE:GREGORIAN
METHOD:PUBLISH
BEGIN:VEVENT
UID:69e780277e489
DTSTAMP:20260421T134823Z
DTSTART:20260502T123000Z
DTEND:20260502T215900Z
LOCATION:Osnabrück | Museum am Schölerberg (Planetarium) Klaus-Strick-Weg 12
SUMMARY:Das kleine 1x1 der Sterne
DESCRIPTION:Beim Erkunden des Sternhimmels werden die drei Kinder Mark\,  T
 ina und Tim an Bord einer Raumstation gebeamt und starten zu einem abenteue
 rlichen Flug durch das Planetensystem. Der Flug geht am Mond und dem Riesen
 planeten Jupiter vorbei. Während kurzen Ausflügen auf Mars und Venus wird
  deren Oberfläche erkundet. Beim Ringplaneten Saturn[..]\nhttps://kukuk.de
 /events/das-kleine-1x1-der-sterne-3/
URL:https://kukuk.de/events/das-kleine-1x1-der-sterne-3/
END:VEVENT
END:VCALENDAR