BEGIN:VCALENDAR
VERSION:2.0
PRODID:-//eventon.com NONSGML v1.0//EN
CALSCALE:GREGORIAN
METHOD:PUBLISH
BEGIN:VEVENT
UID:69e9e3fbec00d
DTSTAMP:20260423T091851Z
DTSTART:20260503T150000Z
DTEND:20260503T215900Z
LOCATION:Osnabrück | Museum am Schölerberg (Planetarium) Klaus-Strick-Weg 12
SUMMARY:Galaxis – Reise durch die Milch­straße
DESCRIPTION:Lange Zeit war sie nur ein faszinierendes Band am Himmel. Doch 
 dann enthüllte die moderne Wissenschaft Schritt für Schritt die wahre Nat
 ur unserer Milchstraße. In eindrucksvollen Bildern macht die Show dieses W
 issen erlebbar und zeigt die Dynamik\,  die in der Entwicklung von Sternen 
 und Galaxien steckt.\nhttps://kukuk.de/events/galaxis-reise-durch-die-milch
 strasse-6/
URL:https://kukuk.de/events/galaxis-reise-durch-die-milchstrasse-6/
END:VEVENT
END:VCALENDAR