BEGIN:VCALENDAR
VERSION:2.0
PRODID:-//eventon.com NONSGML v1.0//EN
CALSCALE:GREGORIAN
METHOD:PUBLISH
BEGIN:VEVENT
UID:69e7800e3a7b7
DTSTAMP:20260421T134758Z
DTSTART:20260421T173000Z
DTEND:20260421T215900Z
LOCATION:Osnabrück | Museum am Schölerberg (Planetarium) Klaus-Strick-Weg 12
SUMMARY:Galaxis – Reise durch die Milch­straße
DESCRIPTION:Lange Zeit war sie nur ein faszinierendes Band am Himmel. Doch 
 dann enthüllte die moderne Wissenschaft Schritt für Schritt die wahre Nat
 ur unserer Milchstraße. In eindrucksvollen Bildern macht die Show dieses W
 issen erlebbar und zeigt die Dynamik\,  die in der Entwicklung von Sternen 
 und Galaxien steckt.\nhttps://kukuk.de/events/galaxis-reise-durch-die-milch
 strasse-4/
URL:https://kukuk.de/events/galaxis-reise-durch-die-milchstrasse-4/
END:VEVENT
END:VCALENDAR