BEGIN:VCALENDAR
VERSION:2.0
PRODID:-//eventon.com NONSGML v1.0//EN
CALSCALE:GREGORIAN
METHOD:PUBLISH
BEGIN:VEVENT
UID:69e766a6c086d
DTSTAMP:20260421T115934Z
DTSTART:20260509T180000Z
DTEND:20260509T215900Z
LOCATION:Osnabrück | Lagerhalle Rolandsmauer 26\,  49074 Osnabrück
SUMMARY:Ben Schafmeister: „Ein Tic anders“
DESCRIPTION:Mit 24 Jahren hat Ben Schafmeister mehr Bühnenluft geatmet als
  so mancher alter Showhase. Kein Wunder – er steht seit er 11 ist auf der
  Bühne und hat sich mittlerweile zu einem der spannendsten neuen Comedy-Ac
 ts des Landes entwickelt. Als Moderator von NightWash\,  dem Kult-Format d
 er deutschen Comedy-Szene\,  führt er mit[..]\nhttps://kukuk.de/events/ben
 -schafmeister-ein-tic-anders/
URL:https://kukuk.de/events/ben-schafmeister-ein-tic-anders/
END:VEVENT
END:VCALENDAR