BEGIN:VCALENDAR
VERSION:2.0
PRODID:-//eventon.com NONSGML v1.0//EN
CALSCALE:GREGORIAN
METHOD:PUBLISH
BEGIN:VEVENT
UID:69e74d0b0b3de
DTSTAMP:20260421T101019Z
DTSTART:20260411T180000Z
DTEND:20260411T210000Z
LOCATION:Osnabrück | Haus der Jugend (Saal Bocksmauer) Bocksmauer 13
SUMMARY:Nils Frederik + næla
DESCRIPTION:Nils Frederiks [Singer-Songwritter\,  Osnabrück] Musik bewegt.
  Sowohl die groovigen Sounds\,  die keinen still stehen lassen\,  als auch 
 die Texte\,  die mit einem französischen Flair von den wichtigen Dingen im
  Leben erzählen: Offenheit\,  Liebe und ein optimistisches Lebensgefühl. 
 Alles\,  was um Nils FrederiK herum passiert\,  ist Inspiration für die de
 utschfranzösischen Songs\, [..]\nhttps://kukuk.de/events/nils-frederik-nae
 la/
URL:https://kukuk.de/events/nils-frederik-naela/
END:VEVENT
END:VCALENDAR