BEGIN:VCALENDAR
VERSION:2.0
PRODID:-//eventon.com NONSGML v1.0//EN
CALSCALE:GREGORIAN
METHOD:PUBLISH
BEGIN:VEVENT
UID:69e8a9b1153d8
DTSTAMP:20260422T105753Z
DTSTART:20260428T173000Z
DTEND:20260428T215900Z
LOCATION:Osnabrück | St. Marien Markt
SUMMARY:Bach: „Aufer­stehung und Himmelfahrt“
DESCRIPTION:Die metaphysischen Ereignisse von Auferstehung und Himmelfahrt 
 Jesu Christi rücken in diesem Jahr in einer Veranstaltungsreihe in den Fok
 us der kirchenmusikalisch-theologischen Auseinandersetzung. Zwischen Ostern
  und Ende April widmen wir uns in einer Predigtreihe\,  in konzertanten Auf
 führungen\,  einem musikalischen Einführungsabend sowie in theologische V
 orträgen diesen eher sperrigen Themen. Die Auferstehung und[..]\nhttps://k
 ukuk.de/events/bach-auferstehung-und-himmelfahrt/
URL:https://kukuk.de/events/bach-auferstehung-und-himmelfahrt/
END:VEVENT
END:VCALENDAR