BEGIN:VCALENDAR
VERSION:2.0
PRODID:-//eventon.com NONSGML v1.0//EN
CALSCALE:GREGORIAN
METHOD:PUBLISH
BEGIN:VEVENT
UID:69e8a99d272b8
DTSTAMP:20260422T105733Z
DTSTART:20260503T080000Z
DTEND:20260503T160000Z
LOCATION:Osnabrück | MIK Museum Industriekultur (Pferdestall) Süberweg 60
SUMMARY:Entdeckungs­reise zu Tante Emma!
DESCRIPTION:Wie war das eigentlich früher\,  als es noch keine Supermärkt
 e gab? Mit dem ehemaligen Tante-Emma-Laden Tackenberg (früher Vitihof Osna
 brück) gibt es im MIK jetzt ein weiteres Stück Zeitgeschichte hautnah zu 
 erleben: Die Kinder begeben sich auf eine lebendige Zeitreise in die Einkau
 fswelt vergangener Tage\,  die so ganz anders war als[..]\nhttps://kukuk.de
 /events/entdeckungsreise-zu-tante-emma-3/
URL:https://kukuk.de/events/entdeckungsreise-zu-tante-emma-3/
END:VEVENT
END:VCALENDAR