BEGIN:VCALENDAR
VERSION:2.0
PRODID:-//eventon.com NONSGML v1.0//EN
CALSCALE:GREGORIAN
METHOD:PUBLISH
BEGIN:VEVENT
UID:69e74d0b47745
DTSTAMP:20260421T101019Z
DTSTART:20260426T090000Z
DTEND:20260426T215900Z
LOCATION:Melle | Forum MÃ¼hlenstr. 39a
SUMMARY:â€žDie drei Schweinchen und der Wolfâ€œ | FigurenÂ­theater Gingganz\,  Scheden-Meensen
DESCRIPTION:Endlich â€“ Mama Sau bekommt Post von ihren Kindern. Vor einem 
 Jahr sind sie losgezogen in die weite Welt. â€žBleibt gesund und schreibt m
 ir malâ€œ\,  hat Mama Sau noch gesagt\,  â€žund hÃ¼tet euch vor dem Wolf.â€
 œ â€“ â€žIst doch klar\,  einer fÃ¼r alle und alle fÃ¼r einen!â€œ sagen die
  drei[..]\nhttps://kukuk.de/events/die-drei-schweinchen-und-der-wolf-figure
 ntheater-gingganz-scheden-meensen/
URL:https://kukuk.de/events/die-drei-schweinchen-und-der-wolf-figurentheater-gingganz-scheden-meensen/
END:VEVENT
END:VCALENDAR