BEGIN:VCALENDAR
VERSION:2.0
PRODID:-//eventon.com NONSGML v1.0//EN
CALSCALE:GREGORIAN
METHOD:PUBLISH
BEGIN:VEVENT
UID:69e766c28d8d4
DTSTAMP:20260421T120002Z
DTSTART:20260423T170000Z
DTEND:20260423T183000Z
LOCATION:Osnabrück | Steinwerk Ledenhof (Renaissancesaal) Am Ledenhof 3
SUMMARY:Feridun Zaimoglu: „Sohn ohne Vater“
DESCRIPTION:Es ist früh am Morgen\,  als die Mutter anruft\,  um ihm zu sa
 gen\,  dass sein Vater gestorben ist. Der Erzähler weiß nicht\,  was er t
 un soll. Er ist allein in seinem Schmerz. Wer kann ihm helfen\,  wer ihn tr
 östen? Nach und nach wird ihm klar: Er muss in die Türkei.[..]\nhttps://k
 ukuk.de/events/feridun-zaimoglu-sohn-ohne-vater/
URL:https://kukuk.de/events/feridun-zaimoglu-sohn-ohne-vater/
END:VEVENT
END:VCALENDAR