BEGIN:VCALENDAR
VERSION:2.0
PRODID:-//eventon.com NONSGML v1.0//EN
CALSCALE:GREGORIAN
METHOD:PUBLISH
BEGIN:VEVENT
UID:69e8ac0f426af
DTSTAMP:20260422T110759Z
DTSTART:20260425T083000Z
DTEND:20260425T215900Z
LOCATION:Osnabrück | Theater am Domhof Domhof 10/11
SUMMARY:„Endstation Sehnsucht“ | Öffentliche Probe
DESCRIPTION:Bereits vor der Premiere bekommt das interessierte Publikum bei
  den Offenen Proben einen ersten Blick auf die neuen Inszenierungen sowie i
 n den Arbeitsalltag der Darsteller*innen und des Regieteams. Zu Beginn werd
 en die Zuschauer*innen mit einer Einführung im Oberen Foyer begrüßt. Im 
 Anschluss sind sie dann live bei einer Bühnenprobe mit[..]\nhttps://kukuk.
 de/events/endstation-sehnsucht-oeffentliche-probe/
URL:https://kukuk.de/events/endstation-sehnsucht-oeffentliche-probe/
END:VEVENT
END:VCALENDAR