BEGIN:VCALENDAR
VERSION:2.0
PRODID:-//eventon.com NONSGML v1.0//EN
CALSCALE:GREGORIAN
METHOD:PUBLISH
BEGIN:VEVENT
UID:69e8add7597ac
DTSTAMP:20260422T111535Z
DTSTART:20260428T173000Z
DTEND:20260428T215900Z
LOCATION:Osnabrück | Theater am Domhof Domhof 10/11
SUMMARY:Wenn die Sterne fallen
DESCRIPTION:Hazel und Maggie wollen\,  dass der Tag für ihre jüngste Sc
 hwester Sylvia perfekt wird\,  denn sie heiratet heute Marek. Da darf kein 
 Detail dem Zufall überlassen werden. Die Hochzeit ist doch der schönste
  Tag im Leben\,  oder nicht? Und doch gibt es eine Kleiderkrise in letzter 
 Minute\,  der Brautvater vergisst[..]\nhttps://kukuk.de/events/wenn-die-ste
 rne-fallen/var/ri-1.l-L1
URL:https://kukuk.de/events/wenn-die-sterne-fallen/var/ri-1.l-L1
END:VEVENT
END:VCALENDAR