BEGIN:VCALENDAR
VERSION:2.0
PRODID:-//eventon.com NONSGML v1.0//EN
CALSCALE:GREGORIAN
METHOD:PUBLISH
BEGIN:VEVENT
UID:69e74d239d68b
DTSTAMP:20260421T101043Z
DTSTART:20260404T173000Z
DTEND:20260404T215900Z
LOCATION:Osnabrück | Caprivi-Lounge\,  Hochschule OS (Gebäude CK) Caprivistr. 30a
SUMMARY:Die Leiden des jungen Werther
DESCRIPTION:„Und laß das Büchlein deinen Freund sein\,  wenn du keinen 
 näheren finden kannst.“ So schreibt es Goethe vor 250 Jahren zu Beginn s
 eines „Werthers“\,  und noch immer hinterlässt die Erzählung Spuren b
 ei Liebenden und Leidenden – die wir alle immer wieder sind. Der junge Ma
 nn Werther ist froh fort zu[..]\nhttps://kukuk.de/events/23442306/
URL:https://kukuk.de/events/23442306/
END:VEVENT
END:VCALENDAR