BEGIN:VCALENDAR
VERSION:2.0
PRODID:-//eventon.com NONSGML v1.0//EN
CALSCALE:GREGORIAN
METHOD:PUBLISH
BEGIN:VEVENT
UID:69e74d0b227ad
DTSTAMP:20260421T101019Z
DTSTART:20260410T170000Z
DTEND:20260410T215900Z
LOCATION:Osnabrück | Lagerhalle Rolandsmauer 26\,  49074 Osnabrück
SUMMARY:Zen und die Gefahren der Meditation
DESCRIPTION:Die körperlichen Gefahren bei der bewegten Meditation sind den
  meisten Unterrichtenden bekannt. Aber werden sie auch den Schüler*innen v
 ermittelt? Immer wieder wird\,  oft auf nebulöse Weise\,  auf die Gefahren
  der sitzenden Meditation hingewiesen. Aber gibt es wirklich bedeutende Gef
 ahren für gesunde Menschen? Und welche Gefahren gibt es gegebenenfalls bei
  gesundheitlichen[..]\nhttps://kukuk.de/events/zen-und-die-gefahren-der-med
 itation/
URL:https://kukuk.de/events/zen-und-die-gefahren-der-meditation/
END:VEVENT
END:VCALENDAR