BEGIN:VCALENDAR
VERSION:2.0
PRODID:-//eventon.com NONSGML v1.0//EN
CALSCALE:GREGORIAN
METHOD:PUBLISH
BEGIN:VEVENT
UID:69e7668617322
DTSTAMP:20260421T115902Z
DTSTART:20260421T180000Z
DTEND:20260421T215900Z
LOCATION:Osnabrück | Kleine Freiheit Dammstr. 2
SUMMARY:„Kleiner“ Comedy Slam
DESCRIPTION:Beim kleinen Comedy Slam wird es eng\,  es wird jung\,  es wird
  wild. 4 Newcomer-Comedians aus ganz Deutschland treten jeweils 10-15 Minut
 en auf der kleinen Bühne in der kleinen Freiheit gegeneinander an. Der Clu
 e: Das Publikum\,  also Ihr stimmt darüber ab\,  wer das Goldene Nudelholz
  gewinnt. Es gibt 2 Runden:[..]\nhttps://kukuk.de/events/kleiner-comedy-sla
 m/
URL:https://kukuk.de/events/kleiner-comedy-slam/
END:VEVENT
END:VCALENDAR