BEGIN:VCALENDAR
VERSION:2.0
PRODID:-//eventon.com NONSGML v1.0//EN
CALSCALE:GREGORIAN
METHOD:PUBLISH
BEGIN:VEVENT
UID:69e74d0cd2c27
DTSTAMP:20260421T101020Z
DTSTART:20260426T130000Z
DTEND:20260426T215900Z
LOCATION:Osnabrück | Lagerhalle Rolandsmauer 26\,  49074 Osnabrück
SUMMARY:UFOlino – Mitmach­kino
DESCRIPTION:Beim UFOlino-Mitmachkino bleiben die Smartphones aus und die Ta
 blets zuhause\,  denn: Es geht ins Kino! Dazu sind Kinder und ihre Begleitp
 ersonen gemeinsam eingeladen\,  denn Filme lernt man am besten gemeinsam ke
 nnen und verliebt sich vielleicht zusammen (neu) ins Kino. Im Kino ist das 
 Bewegtbild zuhause und kann dort wunderbar erforscht[..]\nhttps://kukuk.de/
 events/ufolino-mitmachkino/
URL:https://kukuk.de/events/ufolino-mitmachkino/
END:VEVENT
END:VCALENDAR