BEGIN:VCALENDAR
VERSION:2.0
PRODID:-//eventon.com NONSGML v1.0//EN
CALSCALE:GREGORIAN
METHOD:PUBLISH
BEGIN:VEVENT
UID:69e891743c9ca
DTSTAMP:20260422T091428Z
DTSTART:20260426T150000Z
DTEND:20260426T215900Z
LOCATION:Osnabrück | Botschaft Frankenstr. 21
SUMMARY:40 Jahre Orchester Osnabrücker Musik­freunde
DESCRIPTION:Moderation: Thomas Richter Leitung: Reinmar Neuner\nhttps://kuk
 uk.de/events/40-jahre-orchester-osnabruecker-musikfreunde/
URL:https://kukuk.de/events/40-jahre-orchester-osnabruecker-musikfreunde/
END:VEVENT
END:VCALENDAR