BEGIN:VCALENDAR
VERSION:2.0
PRODID:-//eventon.com NONSGML v1.0//EN
CALSCALE:GREGORIAN
METHOD:PUBLISH
BEGIN:VEVENT
UID:69e74d176c67a
DTSTAMP:20260421T101031Z
DTSTART:20260412T130000Z
DTEND:20260412T215900Z
LOCATION:Osnabrück | Nackte Mühle Östringer Weg 18
SUMMARY:Mitten im Draußen
DESCRIPTION:Hört ihr es flüstern? Hört ihr es knistern? Schaut nur genau
  hin. Hier mitten im Draußen wohnen zauberhafte Wesen unter Blättern\,  i
 n Baumstämmen und zwischen den Gräsern am Ufer des Mühlenbaches. Die Erz
 ählerin Sonja Fischer erschafft mit ihren Geschichten über die Zwerge\,  
 Feen und Tiere die Märchenwelt an der Mühle[..]\nhttps://kukuk.de/events/
 mitten-im-draussen-2/
URL:https://kukuk.de/events/mitten-im-draussen-2/
END:VEVENT
END:VCALENDAR