BEGIN:VCALENDAR
VERSION:2.0
PRODID:-//eventon.com NONSGML v1.0//EN
CALSCALE:GREGORIAN
METHOD:PUBLISH
BEGIN:VEVENT
UID:69e737807318c
DTSTAMP:20260421T083824Z
DTSTART:20260522T150000Z
DTEND:20260522T215900Z
LOCATION:Treffpunkt: Tuchmacher Museum (Riverside) Mühlenort 6\,  Bramsche
SUMMARY:Bramscher Feier­abend­tour | ADFC
DESCRIPTION:Gemütliche Radtour rund um Bramsche. Länge: 40 km Tourleitung
 : Bernd Lampe/Ansgar Hagemann Voraussetzungen sind ein verkehrssicheres Fah
 rrad gem. StVZO § 63a\,  Ersatzschlauch und Flickzeug. Die ADFC-Tourenleit
 er*innen nehmen allein in Osnabrück jährlich mehr als 1800 Teilnehmer*inn
 en mit auf ca. 140 Radtouren durch die Region. Sie zeigen gern die schönst
 en Seiten unserer[..]\nhttps://kukuk.de/events/bramscher-feierabendtour-adf
 c-2/var/ri-1.l-L1
URL:https://kukuk.de/events/bramscher-feierabendtour-adfc-2/var/ri-1.l-L1
END:VEVENT
END:VCALENDAR