BEGIN:VCALENDAR
VERSION:2.0
PRODID:-//eventon.com NONSGML v1.0//EN
CALSCALE:GREGORIAN
METHOD:PUBLISH
BEGIN:VEVENT
UID:69e737bbaa493
DTSTAMP:20260421T083923Z
DTSTART:20260527T153000Z
DTEND:20260527T215900Z
LOCATION:Treffpunkt: Tuchmacher Museum (Riverside) Mühlenort 6\,  Bramsche
SUMMARY:Bramscher Fitness­runde | ADFC
DESCRIPTION:Mit Gravelbike\,  Trekkingrad oder Rennrad starten die Teilnehm
 er*innen zu einer flotten Ausfahrt um Bramsche\,  hauptsächlich auf Straß
 e. Ziel ist es\,  die Fitness zu steigern bei ca. 25km/h. Gestartet und Ank
 ommen wird gemeinsamen. Länge: 50 km Tourleiter: Ansgar Hagemann Vorausset
 zungen sind ein verkehrssicheres Fahrrad gem. StVZO § 63a\,  Ersatzschlauc
 h und Flickzeug.[..]\nhttps://kukuk.de/events/auf-ins-wochenende-ab-in-die-
 pedale-adfc-copy/var/ri-3.l-L1
URL:https://kukuk.de/events/auf-ins-wochenende-ab-in-die-pedale-adfc-copy/var/ri-3.l-L1
END:VEVENT
END:VCALENDAR