BEGIN:VCALENDAR
VERSION:2.0
PRODID:-//eventon.com NONSGML v1.0//EN
CALSCALE:GREGORIAN
METHOD:PUBLISH
BEGIN:VEVENT
UID:69e74d0dc07f8
DTSTAMP:20260421T101021Z
DTSTART:20260404T110000Z
DTEND:20260404T215900Z
LOCATION:Treffpunkt: ADFC-Treff Lohstr. 31\,  OS
SUMMARY:Hügelig um den Hüggel | ADFC
DESCRIPTION:Die große Hüggel-Runde für alle\,  die noch gerne ohne Motor
  fahren! Auf schönen\,  aber steilen Wegen umrunden die Teilnehmer*innen d
 en Hüggel und genießen in Hagen Kaffee und Kuchen. Rückkehr gegen 18 Uhr
 . Länge: 45 km  Tourleitung: Martin Jung Voraussetzungen sind ein verkehr
 ssicheres Fahrrad gem. StVZO § 63a\,  Ersatzschlauch und Flickzeug.[..]\nh
 ttps://kukuk.de/events/dienstagsrunde-adfc-2/
URL:https://kukuk.de/events/dienstagsrunde-adfc-2/
END:VEVENT
END:VCALENDAR