BEGIN:VCALENDAR
VERSION:2.0
PRODID:-//eventon.com NONSGML v1.0//EN
CALSCALE:GREGORIAN
METHOD:PUBLISH
BEGIN:VEVENT
UID:69e9e3e9d746a
DTSTAMP:20260423T091833Z
DTSTART:20260414T170000Z
DTEND:20260414T190000Z
LOCATION:Osnabrück | Kunsthalle Hasemauer 1
SUMMARY:Alena Schröder: „Mein ganzes Leben\,  Öl auf Leinwand\,  ohne Titel“ | Littera
DESCRIPTION:Güstrow\,  Mai 1945: Die 14-jährige Marlen liegt zusammengeka
 uert in der Schublade einer Kommode in einem verlassenen Forsthaus. Als sie
  sich endlich befreit\,  entdeckt sie dort das unscheinbare Porträt einer 
 jungen Frau. Wilma\,  die Marlen geholfen hat\,  sich rechtzeitig vor den r
 ussischen Soldaten zu verstecken\,  nimmt die junge Waise bei sich[..]\nhtt
 ps://kukuk.de/events/alena-schroeder-mein-ganzes-leben-oel-auf-leinwand-ohn
 e-titel-littera/
URL:https://kukuk.de/events/alena-schroeder-mein-ganzes-leben-oel-auf-leinwand-ohne-titel-littera/
END:VEVENT
END:VCALENDAR