BEGIN:VCALENDAR
VERSION:2.0
PRODID:-//eventon.com NONSGML v1.0//EN
CALSCALE:GREGORIAN
METHOD:PUBLISH
BEGIN:VEVENT
UID:69e766f520523
DTSTAMP:20260421T120053Z
DTSTART:20260425T160000Z
DTEND:20260425T215900Z
LOCATION:OsnabrÃ¼ck | Hyde Park FÃ¼rstenauer Weg 128
SUMMARY:Haggefugg: â€žMit Sack und Packâ€œ
DESCRIPTION:Die sechs KÃ¶lner bringen Rock\,  DudelsÃ¤cke und eine Prise Wa
 hnsinn â€“ auch in deine Stadt! Seit ihren AnfÃ¤ngen 2015 haben Haggefugg m
 it ihrem energiegeladenen â€žehrlichen Mittelalterrockâ€œ schon auf zahlrei
 chen BÃ¼hnen die Massen in Ekstase versetzt. Nach Auftritten mit SzenegrÃ¶Ã
 Ÿen wie Subway to Sally\,  Saltatio Mortis und Feuerschwanz sowie Shows auf
 [..]\nhttps://kukuk.de/events/haggefugg-mit-sack-und-pack/
URL:https://kukuk.de/events/haggefugg-mit-sack-und-pack/
END:VEVENT
END:VCALENDAR