BEGIN:VCALENDAR
VERSION:2.0
PRODID:-//eventon.com NONSGML v1.0//EN
CALSCALE:GREGORIAN
METHOD:PUBLISH
BEGIN:VEVENT
UID:69e767fb13a06
DTSTAMP:20260421T120515Z
DTSTART:20260411T101500Z
DTEND:20260411T110000Z
LOCATION:Osnabrück | Dom St. Petrus Domhof 1
SUMMARY:Ökumenische Marktmusik
DESCRIPTION:Auf Initiative von Domorganist Balthasar Baumgartner und Kirche
 nmusikdirektor Carsten Zündorf findet seit November 2022 samstags zur Mark
 tzeit von 12:15 bis 12:45 Uhr im Wechsel zwischen Dom St. Petrus und St. Ma
 rien die Ökumenische Marktmusik statt&#8230;\nhttps://kukuk.de/events/oeku
 menische-marktmusik-3/
URL:https://kukuk.de/events/oekumenische-marktmusik-3/
END:VEVENT
END:VCALENDAR