BEGIN:VCALENDAR
VERSION:2.0
PRODID:-//eventon.com NONSGML v1.0//EN
CALSCALE:GREGORIAN
METHOD:PUBLISH
BEGIN:VEVENT
UID:69e74d0c52ed2
DTSTAMP:20260421T101020Z
DTSTART:20260402T160000Z
DTEND:20260402T170000Z
LOCATION:Mettingen | Draiflessen Collection Georgstr. 18
SUMMARY:Kurator*innen­führung | Kunst am Abend
DESCRIPTION:Stellen Sie dem Kurator der Ausstellung „verortet“ Ihre Fra
 gen.\nhttps://kukuk.de/events/kuratorinnenfuehrung-kunst-am-abend/
URL:https://kukuk.de/events/kuratorinnenfuehrung-kunst-am-abend/
END:VEVENT
END:VCALENDAR