BEGIN:VCALENDAR
VERSION:2.0
PRODID:-//eventon.com NONSGML v1.0//EN
CALSCALE:GREGORIAN
METHOD:PUBLISH
BEGIN:VEVENT
UID:69e74de78481d
DTSTAMP:20260421T101359Z
DTSTART:20260418T180000Z
DTEND:20260418T215900Z
LOCATION:Osnabrück | Figurentheater – Alte Fuhrhalterei Kleine Gildewart 9
SUMMARY:„Plan B“ | Schatten­theater
DESCRIPTION:Eine gigantische Bedrohung versetzt eine Stadt in Angst und Sch
 recken. In einem Laboratorium werkelt ein zwielichtiger Wissenschaftler. Fa
 rben\,  Schatten\,  Nebel und unheimliche Geräusche begleiten sein Tüftel
 n. Was geht hier vor sich? Ist die Rettung nahe oder sind wir alle verdammt
 ? „Plan B“ macht Spaß: Inspiriert von Monster-Trash-Filmen der 50er-\,
   60er-Jahre[..]\nhttps://kukuk.de/events/plan-b-schattentheater/var/ri-1.l
 -L1
URL:https://kukuk.de/events/plan-b-schattentheater/var/ri-1.l-L1
END:VEVENT
END:VCALENDAR