BEGIN:VCALENDAR
VERSION:2.0
PRODID:-//eventon.com NONSGML v1.0//EN
CALSCALE:GREGORIAN
METHOD:PUBLISH
BEGIN:VEVENT
UID:69e74f2985475
DTSTAMP:20260421T101921Z
DTSTART:20260419T090000Z
DTEND:20260419T215900Z
LOCATION:Treffpunkt: Stadtbibliothek (Arkaden) Markt 1\,  OS
SUMMARY:Auf den Spuren des Widerstands während der NS-Zeit in Osnabrück
DESCRIPTION:Der Stadtrundgang folgt den Spuren von Osnabrücker*innen\,  di
 e sich politisch engagiert oder auch als Privatpersonen dem menschenveracht
 enden NS-System widersetzt haben: Menschen\,  die sich nicht von ihren verf
 olgten Ehepartner*innen trennten\,  wichtige Mitglieder der „Bekennenden 
 Kirche“ und der Synagogengemeinde\,  politisch aktive Antifaschisten\,  d
 ie sich schon vor 1933 in Osnabrück mit den Nationalsozialisten[..]\nhttps
 ://kukuk.de/events/auf-den-spuren-des-widerstands-waehrend-der-ns-zeit-in-o
 snabrueck/
URL:https://kukuk.de/events/auf-den-spuren-des-widerstands-waehrend-der-ns-zeit-in-osnabrueck/
END:VEVENT
END:VCALENDAR