BEGIN:VCALENDAR
VERSION:2.0
PRODID:-//eventon.com NONSGML v1.0//EN
CALSCALE:GREGORIAN
METHOD:PUBLISH
BEGIN:VEVENT
UID:69e8a9b102d21
DTSTAMP:20260422T105753Z
DTSTART:20260416T170000Z
DTEND:20260416T215900Z
LOCATION:Osnabrück | Haus der Volkshochschule Bergstr. 8
SUMMARY:Migration – Emigration – Immigration – „Remigration“ (?)
DESCRIPTION:Das lateinische Wort „migrare“ bedeutet „wandern“. Und 
 die Menschen wandern tatsächlich vom Beginn der Geschichte an. Die Bibel i
 st voll von derartigen Geschichten. In der Völkerwanderungszeit zwischen S
 pätantike und früher Neuzeit hat sich dieses Phänomen geradezu instituti
 onalisiert. Man verließ die Heimat in der Hoffnung auf eine bessere\,  abe
 r immer ungewisse[..]\nhttps://kukuk.de/events/migration-emigration-immigra
 tion-remigration/
URL:https://kukuk.de/events/migration-emigration-immigration-remigration/
END:VEVENT
END:VCALENDAR