BEGIN:VCALENDAR
VERSION:2.0
PRODID:-//eventon.com NONSGML v1.0//EN
CALSCALE:GREGORIAN
METHOD:PUBLISH
BEGIN:VEVENT
UID:69e89172abaa2
DTSTAMP:20260422T091426Z
DTSTART:20260415T170000Z
DTEND:20260415T191500Z
LOCATION:Osnabrück | Haus der Volkshochschule Bergstr. 8
SUMMARY:Depression – Was ist das genau\,  wie kommt es dazu und was macht gesund?
DESCRIPTION:Die Depression ist eine der häufigsten psychischen Erkrankunge
 n. Sie macht krank\,  nimmt einem Menschen die Hoffnung und hat erhebliche 
 Auswirkungen auf das Leben von Betroffenen und deren Familien. Das Wissen i
 n der Bevölkerung über den Ursprung oder die Behandlung einer Depression 
 ist immer noch unzureichend. Es existieren Mythen und viele[..]\nhttps://ku
 kuk.de/events/depression-was-ist-das-genau-wie-kommt-es-dazu-und-was-macht-
 gesund/
URL:https://kukuk.de/events/depression-was-ist-das-genau-wie-kommt-es-dazu-und-was-macht-gesund/
END:VEVENT
END:VCALENDAR