BEGIN:VCALENDAR
VERSION:2.0
PRODID:-//eventon.com NONSGML v1.0//EN
CALSCALE:GREGORIAN
METHOD:PUBLISH
BEGIN:VEVENT
UID:69e74ce2268c6
DTSTAMP:20260421T100938Z
DTSTART:20260327T190000Z
DTEND:20260327T225900Z
LOCATION:Osnabrück | Botschaft Frankenstr. 21
SUMMARY:Caroline Wahl: „Die Assistentin“
DESCRIPTION:Caroline Wahl\,  geboren 1995 in Mainz\,  wuchs in der Nähe vo
 n Heidelberg auf. Sie studierte Germanistik in Tübingen und Deutsche Liter
 atur in Berlin. Danach arbeitete sie in mehreren Verlagen. 2023 erschien ih
 r Debütroman „22 Bahnen“\,  für den sie u. a. mit dem Ulla-Hahn-Autor
 enpreis und dem Grimmelshausen-Förderpreis ausgezeichnet wurde. Außerdem 
 wurde[..]\nhttps://kukuk.de/events/caroline-wahl-die-assistentin/
URL:https://kukuk.de/events/caroline-wahl-die-assistentin/
END:VEVENT
END:VCALENDAR