BEGIN:VCALENDAR
VERSION:2.0
PRODID:-//eventon.com NONSGML v1.0//EN
CALSCALE:GREGORIAN
METHOD:PUBLISH
BEGIN:VEVENT
UID:69e8a836d5aff
DTSTAMP:20260422T105134Z
DTSTART:20260419T090000Z
DTEND:20260419T110000Z
LOCATION:Treffpunkt: Sägewerk Wissingen Krevinghauser Straße\,  Bissendorf-Wissingen
SUMMARY:Tiere und Tierspuren im Wald
DESCRIPTION:Viele Tiere wie Reh\,  Eichhörnchen\,  Maus und Specht leben i
 n unseren Wäldern. Selten können wir sie beobachten. Aber alle Tiere hint
 erlassen Spuren wie Ruheplätze\,  Wohnbauten\,  Nester\,  Kot und Fraßspu
 ren. Aufmerksam und leise erforschen die Teilnehmer*innen den Wald und entd
 ecken vielleicht sogar einige Waldbewohnende. Tourguide: Astrid Schmidtendo
 rf Hinweis: Eine Übersetzung in[..]\nhttps://kukuk.de/events/tiere-und-tie
 rspuren-im-wald/
URL:https://kukuk.de/events/tiere-und-tierspuren-im-wald/
END:VEVENT
END:VCALENDAR