BEGIN:VCALENDAR
VERSION:2.0
PRODID:-//eventon.com NONSGML v1.0//EN
CALSCALE:GREGORIAN
METHOD:PUBLISH
BEGIN:VEVENT
UID:69e74e469e1dd
DTSTAMP:20260421T101534Z
DTSTART:20260411T123000Z
DTEND:20260411T143000Z
LOCATION:Treffpunkt: Wanderparkplatz „Zum Ickerkolk“ Zum Ickerkolk\,  Osnabrück-Haste
SUMMARY:Woher weiß der Wald\,  wann Frühling ist?
DESCRIPTION:Plötzlich wird es im Wald wieder bunt! Wer findet wohl die ers
 te blaue Blume? Wir sammeln Farben und entdecken den wieder erwachten Wald 
 in unterschiedlichen Perspektiven. Erfahren Sie etwas über die innere Uhr 
 des Waldes und was der Klimawandel mit ihr macht. Waldspaziergänge mit den
  Eltern oder Großeltern müssen nicht[..]\nhttps://kukuk.de/events/woher-w
 eiss-der-wald-wann-fruehling-ist/
URL:https://kukuk.de/events/woher-weiss-der-wald-wann-fruehling-ist/
END:VEVENT
END:VCALENDAR