BEGIN:VCALENDAR
VERSION:2.0
PRODID:-//eventon.com NONSGML v1.0//EN
CALSCALE:GREGORIAN
METHOD:PUBLISH
BEGIN:VEVENT
UID:69e74e464a3a6
DTSTAMP:20260421T101534Z
DTSTART:20260407T130000Z
DTEND:20260407T150000Z
LOCATION:Osnabrück | Stadtbibliothek Markt 1
SUMMARY:Robotik-Workshop mit Bee-Bots und Ozobots | TechnoThek (Osterferien-Spezial)
DESCRIPTION:Kennst du schon unsere Bee-Bots und Ozobots? Die kleinen Robote
 r lassen sich ganz einfach programmieren\,  sodass du mit ihnen Geschichten
  erzählen\,  auf Schatzsuche gehen\,  Wettrennen und andere coole Aktionen
  veranstalten kannst. Das Team der Kinder- und Jugendbibliothek lädt Kinde
 r zwischen 6 und 8 Jahren ein\,  die kleinen Technikwunder mit Neugier[..]\
 nhttps://kukuk.de/events/robotik-workshop-mit-bee-bots-und-ozobots-technoth
 ek-osterferien-spezial/
URL:https://kukuk.de/events/robotik-workshop-mit-bee-bots-und-ozobots-technothek-osterferien-spezial/
END:VEVENT
END:VCALENDAR