BEGIN:VCALENDAR
VERSION:2.0
PRODID:-//eventon.com NONSGML v1.0//EN
CALSCALE:GREGORIAN
METHOD:PUBLISH
BEGIN:VEVENT
UID:69e9e50a24e1d
DTSTAMP:20260423T092322Z
DTSTART:20260407T083000Z
DTEND:20260407T100000Z
LOCATION:Osnabrück | Stadtbibliothek Markt 1
SUMMARY:Smartphone Sprech­stunde
DESCRIPTION:Die Stadtbibliothek bietet bei der Smartphone-Sprechstunde Hilf
 e bei Problemen mit dem eigenen Gerät. Wie verschicke ich ein Foto? Wie nu
 tze ich WhatsApp? Fachkundige Bibliotheksmitarbeitende stehen bereit\,  um 
 diese und ähnliche Fragen verständlich zu beantworten. In 15-minütigen E
 inzelgesprächen werden die Probleme der Teilnehmenden gezielt angegangen. 
 Auch Fragen zu Tablets sind möglich.\nhttps://kukuk.de/events/smartphone-s
 prechstunde-2/
URL:https://kukuk.de/events/smartphone-sprechstunde-2/
END:VEVENT
END:VCALENDAR