BEGIN:VCALENDAR
VERSION:2.0
PRODID:-//eventon.com NONSGML v1.0//EN
CALSCALE:GREGORIAN
METHOD:PUBLISH
BEGIN:VEVENT
UID:69e74def9f97f
DTSTAMP:20260421T101407Z
DTSTART:20260315T133000Z
DTEND:20260315T143000Z
LOCATION:Treffpunkt: Schloss Iburg (Rittersaal) Schlossstraße\,  Bad Iburg
SUMMARY:Zu Gast beim Ritter­bischof Benno
DESCRIPTION:Wie lebte man früher auf so einem Schloss? Wer waren die Bewoh
 ner*innen? Schlossführer Klaus Nienbecker führt die jungen Entdecker*inne
 n durch die Residenz der ehemaligen Osnabrücker Fürstbischöfe mit spanne
 nden und kurzweiligen Geschichten. Da darf man dann auch mal in eine echte 
 Ritterrüstung hineinschlüpfen oder ein Bischofsgewand mit Mitra und Krumm
 stab anziehen.[..]\nhttps://kukuk.de/events/zu-gast-beim-ritterbischof-benn
 o-3/
URL:https://kukuk.de/events/zu-gast-beim-ritterbischof-benno-3/
END:VEVENT
END:VCALENDAR