BEGIN:VCALENDAR
VERSION:2.0
PRODID:-//eventon.com NONSGML v1.0//EN
CALSCALE:GREGORIAN
METHOD:PUBLISH
BEGIN:VEVENT
UID:69e89175b90d8
DTSTAMP:20260422T091429Z
DTSTART:20260314
DTEND:20260315
LOCATION:Osnabrück | Innenstadt
SUMMARY:„Homegrown“ | AMU – Art Mash-Up
DESCRIPTION:Art Mash-Up\,  kurz AMU\,  ist ein Projekt\,  welches von der K
 ünstlerin\,  Kuratorin und Kunstvermittlerin Eva Lause ins Leben gerufen w
 urde und in Kooperation mit dem Bund Bildender Künstlerinnen und Künstler
  (BBK)\,  dem Freundeskreis Bildender Künstlerinnen und Künstler Osnabrü
 ck e. V. (FBK) sowie der Kunsthalle Osnabrück und skulptur-galerie umgeset
 zt wird. Unterstützt[..]\nhttps://kukuk.de/events/homegrown-amu-art-mash-u
 p/
URL:https://kukuk.de/events/homegrown-amu-art-mash-up/
END:VEVENT
END:VCALENDAR