BEGIN:VCALENDAR
VERSION:2.0
PRODID:-//eventon.com NONSGML v1.0//EN
CALSCALE:GREGORIAN
METHOD:PUBLISH
BEGIN:VEVENT
UID:69e73805f270f
DTSTAMP:20260421T084037Z
DTSTART:20260409T173000Z
DTEND:20260409T215900Z
LOCATION:Wallenhorst | Ruller Haus Klosterstr. 4\,  Wallenhorst-Rulle
SUMMARY:„Die leisen und die großen Töne“ | Filmclub am Donnerstag
DESCRIPTION:Thibaut Desormeaux ist ein berühmter Dirigent\,  der auf der g
 anzen Welt arbeitet. In der Mitte seines Lebens wird bei ihm nach einem Sch
 wächeanfall während einer Probe Leukämie diagnostiziert. Er braucht desw
 egen einen Knochenmarkspender. Da bekanntlich Geschwister als optimale Knoc
 henmarkspender infrage kommen\,  hofft er\,  dass seine Schwester ihn rette
 t. Doch nach[..]\nhttps://kukuk.de/events/die-leisen-und-die-grossen-toene-
 filmclub-am-donnerstag/
URL:https://kukuk.de/events/die-leisen-und-die-grossen-toene-filmclub-am-donnerstag/
END:VEVENT
END:VCALENDAR